BEGIN:VCALENDAR
VERSION:2.0
PRODID:-//wp-events-plugin.com//7.2.2.1//EN
BEGIN:VEVENT
UID:13787@ripleytraining.co.uk
DTSTART;TZID=Europe/London:20261006T090000
DTEND;TZID=Europe/London:20261006T163000
DTSTAMP:20251001T110137Z
URL:https://www.ripleytraining.co.uk/events/first-line-management-and-supe
 rvision-skills-training-course-1-day-17-2026-10-06/
SUMMARY:First Line Management and Supervision Skills Training Course (1 Day
 )
DESCRIPTION:
CATEGORIES:First Line Management and Supervision Skills Training Course
 (One Day),Leadership and Management Courses
LOCATION:Edinburgh (EH3 9DE)\, Novotel Edinburgh Central\, Edinburgh\, EH3 
 9DE\, Scotland
GEO:55.9451264;-3.199793399999976
X-APPLE-STRUCTURED-LOCATION;VALUE=URI;X-ADDRESS=Novotel Edinburgh Central\,
  Edinburgh\, EH3 9DE\, Scotland;X-APPLE-RADIUS=100;X-TITLE=Edinburgh (EH3 
 9DE):geo:55.9451264,-3.199793399999976
END:VEVENT
BEGIN:VTIMEZONE
TZID:Europe/London
X-LIC-LOCATION:Europe/London
BEGIN:DAYLIGHT
DTSTART:20260329T020000
TZOFFSETFROM:+0000
TZOFFSETTO:+0100
TZNAME:BST
END:DAYLIGHT
END:VTIMEZONE
END:VCALENDAR