BEGIN:VCALENDAR
VERSION:2.0
PRODID:-//wp-events-plugin.com//7.2.2.1//EN
BEGIN:VEVENT
UID:20826@ripleytraining.co.uk
DTSTART;TZID=Europe/London:20280502T090000
DTEND;TZID=Europe/London:20280502T163000
DTSTAMP:20260419T162431Z
URL:https://www.ripleytraining.co.uk/events/first-line-management-and-supe
 rvision-skills-training-course-1-day-17-2026-11-03-2027-01-05-2027-03-02-2
 027-05-04-2027-07-06-2027-09-07-2027-11-02-2028-01-04-2028-03-07-2028-05-0
 2/
SUMMARY:First Line Management and Supervision Skills Training Course (1 Day
 )
DESCRIPTION:
CATEGORIES:First Line Management and Supervision Skills Training Course
 (One Day),Leadership and Management Courses
LOCATION:Edinburgh (EH3 9DE)\, Novotel Edinburgh Central\, Edinburgh\, EH3 
 9DE\, Scotland
GEO:55.9451264;-3.199793399999976
X-APPLE-STRUCTURED-LOCATION;VALUE=URI;X-ADDRESS=Novotel Edinburgh Central\,
  Edinburgh\, EH3 9DE\, Scotland;X-APPLE-RADIUS=100;X-TITLE=Edinburgh (EH3 
 9DE):geo:55.9451264,-3.199793399999976
END:VEVENT
BEGIN:VTIMEZONE
TZID:Europe/London
X-LIC-LOCATION:Europe/London
BEGIN:DAYLIGHT
DTSTART:20280326T020000
TZOFFSETFROM:+0000
TZOFFSETTO:+0100
TZNAME:BST
END:DAYLIGHT
END:VTIMEZONE
END:VCALENDAR