BEGIN:VCALENDAR
VERSION:2.0
PRODID:-//wp-events-plugin.com//7.2.2.1//EN
BEGIN:VEVENT
UID:20907@ripleytraining.co.uk
DTSTART;TZID=Europe/London:20270210T090000
DTEND;TZID=Europe/London:20270210T163000
DTSTAMP:20260419T163239Z
URL:https://www.ripleytraining.co.uk/events/first-line-management-and-supe
 rvision-skills-training-course-1-day-18-2027-02-10/
SUMMARY:First Line Management and Supervision Skills Training Course (1 Day
 )
DESCRIPTION:
CATEGORIES:First Line Management and Supervision Skills Training Course
 (One Day),Leadership and Management Courses
LOCATION:Peterborough (PE1 1BA)\, Park Inn\, Peterborough\, PE1 1BA\, Unite
 d Kingdom
GEO:52.5707848;-0.24520600000005288
X-APPLE-STRUCTURED-LOCATION;VALUE=URI;X-ADDRESS=Park Inn\, Peterborough\, P
 E1 1BA\, United Kingdom;X-APPLE-RADIUS=100;X-TITLE=Peterborough (PE1 1BA):
 geo:52.5707848,-0.24520600000005288
END:VEVENT
BEGIN:VTIMEZONE
TZID:Europe/London
X-LIC-LOCATION:Europe/London
BEGIN:STANDARD
DTSTART:20261025T010000
TZOFFSETFROM:+0100
TZOFFSETTO:+0000
TZNAME:GMT
END:STANDARD
END:VTIMEZONE
END:VCALENDAR