BEGIN:VCALENDAR
VERSION:2.0
PRODID:-//wp-events-plugin.com//7.2.2.1//EN
BEGIN:VEVENT
UID:19655@ripleytraining.co.uk
DTSTART;TZID=Europe/London:20271116T090000
DTEND;TZID=Europe/London:20271116T163000
DTSTAMP:20260419T145157Z
URL:https://www.ripleytraining.co.uk/events/first-line-management-and-supe
 rvision-skills-training-course-1-day-22-2027-01-19-2027-03-16-2027-05-18-2
 027-07-20-2027-09-21-2027-11-16/
SUMMARY:First Line Management and Supervision Skills Training Course (1 Day
 )
DESCRIPTION:
CATEGORIES:First Line Management and Supervision Skills Training Course
 (One Day),Leadership and Management Courses
LOCATION:Manchester (M4 4AF)\, Crowne Plaza Hotel\, Manchester\, M4 4AF\, U
 nited Kingdom
GEO:53.485857;-2.236363
X-APPLE-STRUCTURED-LOCATION;VALUE=URI;X-ADDRESS=Crowne Plaza Hotel\, Manche
 ster\, M4 4AF\, United Kingdom;X-APPLE-RADIUS=100;X-TITLE=Manchester (M4 4
 AF):geo:53.485857,-2.236363
END:VEVENT
BEGIN:VTIMEZONE
TZID:Europe/London
X-LIC-LOCATION:Europe/London
BEGIN:STANDARD
DTSTART:20271031T010000
TZOFFSETFROM:+0100
TZOFFSETTO:+0000
TZNAME:GMT
END:STANDARD
END:VTIMEZONE
END:VCALENDAR