BEGIN:VCALENDAR
VERSION:2.0
PRODID:-//wp-events-plugin.com//7.2.2.1//EN
BEGIN:VEVENT
UID:19104@ripleytraining.co.uk
DTSTART;TZID=Europe/London:20280711T090000
DTEND;TZID=Europe/London:20280711T163000
DTSTAMP:20260419T142032Z
URL:https://www.ripleytraining.co.uk/events/first-line-management-and-supe
 rvision-skills-training-course-1-day-4-2027-01-12-2027-02-09-2027-03-09-20
 27-04-13-2027-05-11-2027-06-08-2027-07-13-2027-08-10-2027-09-14-2027-10-12
 -2027-11-13-2028-07-11/
SUMMARY:First Line Management and Supervision Skills Training Course (1 Day
 )
DESCRIPTION:
CATEGORIES:First Line Management and Supervision Skills Training Course
 (One Day),Leadership and Management Courses
LOCATION:Newcastle Gateshead (NE8 2AR)\, Newcastle Gateshead Hilton\, Newca
 stle\, NE8 2AR\, United Kingdom
GEO:54.966418;-1.605796
X-APPLE-STRUCTURED-LOCATION;VALUE=URI;X-ADDRESS=Newcastle Gateshead Hilton\
 , Newcastle\, NE8 2AR\, United Kingdom;X-APPLE-RADIUS=100;X-TITLE=Newcastl
 e Gateshead (NE8 2AR):geo:54.966418,-1.605796
END:VEVENT
BEGIN:VTIMEZONE
TZID:Europe/London
X-LIC-LOCATION:Europe/London
BEGIN:DAYLIGHT
DTSTART:20280326T020000
TZOFFSETFROM:+0000
TZOFFSETTO:+0100
TZNAME:BST
END:DAYLIGHT
END:VTIMEZONE
END:VCALENDAR