BEGIN:VCALENDAR
VERSION:2.0
PRODID:-//wp-events-plugin.com//7.2.2.1//EN
BEGIN:VEVENT
UID:18611@ripleytraining.co.uk
DTSTART;TZID=Europe/London:20271104T090000
DTEND;TZID=Europe/London:20271104T163000
DTSTAMP:20260418T212212Z
URL:https://www.ripleytraining.co.uk/events/first-line-management-and-supe
 rvision-skills-training-course-1-day-5-2027-01-07-2027-03-04-2027-05-06-20
 27-07-01-2027-09-02-2027-11-04/
SUMMARY:First Line Management and Supervision Skills Training Course (1 Day
 )
DESCRIPTION:
CATEGORIES:First Line Management and Supervision Skills Training Course
 (One Day),Leadership and Management Courses
LOCATION:York (YO24 1QQ)\, Marriott Hotel\, York\, YO24 1QQ\, United Kingdo
 m
GEO:53.9416075;-1.1043740999999727
X-APPLE-STRUCTURED-LOCATION;VALUE=URI;X-ADDRESS=Marriott Hotel\, York\, YO2
 4 1QQ\, United Kingdom;X-APPLE-RADIUS=100;X-TITLE=York (YO24 1QQ):geo:53.9
 416075,-1.1043740999999727
END:VEVENT
BEGIN:VTIMEZONE
TZID:Europe/London
X-LIC-LOCATION:Europe/London
BEGIN:STANDARD
DTSTART:20271031T010000
TZOFFSETFROM:+0100
TZOFFSETTO:+0000
TZNAME:GMT
END:STANDARD
END:VTIMEZONE
END:VCALENDAR