BEGIN:VCALENDAR
VERSION:2.0
PRODID:-//wp-events-plugin.com//7.2.2.1//EN
BEGIN:VEVENT
UID:18629@ripleytraining.co.uk
DTSTART;TZID=Europe/London:20271202T090000
DTEND;TZID=Europe/London:20271202T163000
DTSTAMP:20260418T212320Z
URL:https://www.ripleytraining.co.uk/events/first-line-management-and-supe
 rvision-skills-training-course-1-day-9-2027-01-07-2027-02-04-2027-03-04-20
 27-04-01-2027-05-06-2027-06-03-2027-07-01-2027-08-05-2027-09-02-2027-10-07
 -2027-11-04-2027-12-02/
SUMMARY:First Line Management and Supervision Skills Training Course (1 Day
 )
DESCRIPTION:
CATEGORIES:First Line Management and Supervision Skills Training Course
 (One Day),Leadership and Management Courses
LOCATION:Preston (PR5 8AA)\, Holiday Inn Express Preston South\, Preston\, 
 PR5 8AA\, United Kingdom
GEO:53.718688;-2.6547136000000364
X-APPLE-STRUCTURED-LOCATION;VALUE=URI;X-ADDRESS=Holiday Inn Express Preston
  South\, Preston\, PR5 8AA\, United Kingdom;X-APPLE-RADIUS=100;X-TITLE=Pre
 ston (PR5 8AA):geo:53.718688,-2.6547136000000364
END:VEVENT
BEGIN:VTIMEZONE
TZID:Europe/London
X-LIC-LOCATION:Europe/London
BEGIN:STANDARD
DTSTART:20271031T010000
TZOFFSETFROM:+0100
TZOFFSETTO:+0000
TZNAME:GMT
END:STANDARD
END:VTIMEZONE
END:VCALENDAR