BEGIN:VCALENDAR
VERSION:2.0
PRODID:-//wp-events-plugin.com//7.2.2.1//EN
BEGIN:VEVENT
UID:18590@ripleytraining.co.uk
DTSTART;TZID=Europe/London:20270902T090000
DTEND;TZID=Europe/London:20270902T163000
DTSTAMP:20260418T212136Z
URL:https://www.ripleytraining.co.uk/events/first-line-management-and-supe
 rvision-skills-training-course-4-2027-01-07-2027-02-04-2027-03-04-2027-04-
 01-2027-05-06-2027-06-03-2027-07-01-2027-08-05-2027-09-02/
SUMMARY:First Line Management and Supervision Skills Training Course
DESCRIPTION:
CATEGORIES:First Line Management and Supervision Skills Training Course
 (One Day),Leadership and Management Courses
LOCATION:Sheffield (S4 7YE)\, Crowne Plaza Royal Victoria Hotel\, Sheffield
 \,  S4 7YE\, United Kingdom
GEO:53.379134;-1.4677
X-APPLE-STRUCTURED-LOCATION;VALUE=URI;X-ADDRESS=Crowne Plaza Royal Victoria
  Hotel\, Sheffield\,  S4 7YE\, United Kingdom;X-APPLE-RADIUS=100;X-TITLE=S
 heffield (S4 7YE):geo:53.379134,-1.4677
END:VEVENT
BEGIN:VTIMEZONE
TZID:Europe/London
X-LIC-LOCATION:Europe/London
BEGIN:DAYLIGHT
DTSTART:20270328T020000
TZOFFSETFROM:+0000
TZOFFSETTO:+0100
TZNAME:BST
END:DAYLIGHT
END:VTIMEZONE
END:VCALENDAR