BEGIN:VCALENDAR
VERSION:2.0
PRODID:-//wp-events-plugin.com//7.2.2.1//EN
BEGIN:VEVENT
UID:17872@ripleytraining.co.uk
DTSTART;TZID=Europe/London:20271102T090000
DTEND;TZID=Europe/London:20271102T163000
DTSTAMP:20260418T204623Z
URL:https://www.ripleytraining.co.uk/events/first-line-management-and-supe
 rvision-skills-training-course-5-2027-01-05-2027-02-02-2027-03-02-2027-04-
 06-2027-05-04-2027-06-01-2027-07-06-2027-08-03-2027-09-07-2027-10-05-2027-
 11-02/
SUMMARY:First Line Management and Supervision Skills Training Course
DESCRIPTION:
CATEGORIES:First Line Management and Supervision Skills Training Course
 (One Day),Leadership and Management Courses
LOCATION:Knaresborough - North Yorkshire (HG5 8LF)\, Knaresborough Technolo
 gy Park\, Knaresborough\, North Yorkshire\, HG5 8LF\, United Kingdom
GEO:54.004989;-1.447223
X-APPLE-STRUCTURED-LOCATION;VALUE=URI;X-ADDRESS=Knaresborough Technology Pa
 rk\, Knaresborough\, North Yorkshire\, HG5 8LF\, United Kingdom;X-APPLE-RA
 DIUS=100;X-TITLE=Knaresborough - North Yorkshire (HG5 8LF):geo:54.004989,-
 1.447223
END:VEVENT
BEGIN:VTIMEZONE
TZID:Europe/London
X-LIC-LOCATION:Europe/London
BEGIN:STANDARD
DTSTART:20271031T010000
TZOFFSETFROM:+0100
TZOFFSETTO:+0000
TZNAME:GMT
END:STANDARD
END:VTIMEZONE
END:VCALENDAR