BEGIN:VCALENDAR
VERSION:2.0
PRODID:-//wp-events-plugin.com//7.2.2.1//EN
BEGIN:VEVENT
UID:20585@ripleytraining.co.uk
DTSTART;TZID=Europe/London:20281129T090000
DTEND;TZID=Europe/London:20281129T163000
DTSTAMP:20260419T161434Z
URL:https://www.ripleytraining.co.uk/events/handling-demanding-people-trai
 ning-course-1-day-2-2027-01-27-2027-03-31-2027-05-26-2027-07-28-2027-09-29
 -2027-11-24-2028-01-26-2028-03-29-2028-05-31-2028-07-26-2028-09-27-2028-11
 -29/
SUMMARY:Handling Demanding People Training Course (1 Day)
DESCRIPTION:
CATEGORIES:Handling Demanding People Training Course (1 Day),Team Member
 and Professional Courses
LOCATION:York (YO24 1QQ)\, Marriott Hotel\, York\, YO24 1QQ\, United Kingdo
 m
GEO:53.9416075;-1.1043740999999727
X-APPLE-STRUCTURED-LOCATION;VALUE=URI;X-ADDRESS=Marriott Hotel\, York\, YO2
 4 1QQ\, United Kingdom;X-APPLE-RADIUS=100;X-TITLE=York (YO24 1QQ):geo:53.9
 416075,-1.1043740999999727
END:VEVENT
BEGIN:VTIMEZONE
TZID:Europe/London
X-LIC-LOCATION:Europe/London
BEGIN:STANDARD
DTSTART:20281029T010000
TZOFFSETFROM:+0100
TZOFFSETTO:+0000
TZNAME:GMT
END:STANDARD
END:VTIMEZONE
END:VCALENDAR