BEGIN:VCALENDAR
VERSION:2.0
PRODID:-//wp-events-plugin.com//7.2.2.1//EN
BEGIN:VEVENT
UID:17624@ripleytraining.co.uk
DTSTART;TZID=Europe/London:20281128T090000
DTEND;TZID=Europe/London:20281128T163000
DTSTAMP:20260331T200844Z
URL:https://www.ripleytraining.co.uk/events/handling-difficult-conversatio
 ns-with-team-members-training-course-1-day-2-2026-05-26-2026-06-30-2026-07
 -28-2026-08-25-2026-09-29-2026-10-27-2026-11-24-2026-12-29-2027-01-26-2027
 -02-23-2-31-2028-11-28/
SUMMARY:Handling Difficult Conversations with Team Members Training Course 
 (1 day)
DESCRIPTION:
CATEGORIES:Handling Difficult Conversations with Team Members Training
 Course (1 day),Leadership and Management Courses
LOCATION:Leeds (LS1 4HR)\, Novotel\, Leeds\, LS1 4HR\, United Kingdom
GEO:53.7953319;-1.552943599999935
X-APPLE-STRUCTURED-LOCATION;VALUE=URI;X-ADDRESS=Novotel\, Leeds\, LS1 4HR\,
  United Kingdom;X-APPLE-RADIUS=100;X-TITLE=Leeds (LS1 4HR):geo:53.7953319,
 -1.552943599999935
END:VEVENT
BEGIN:VTIMEZONE
TZID:Europe/London
X-LIC-LOCATION:Europe/London
BEGIN:STANDARD
DTSTART:20281029T010000
TZOFFSETFROM:+0100
TZOFFSETTO:+0000
TZNAME:GMT
END:STANDARD
END:VTIMEZONE
END:VCALENDAR