BEGIN:VCALENDAR
VERSION:2.0
PRODID:-//wp-events-plugin.com//7.2.2.1//EN
BEGIN:VEVENT
UID:17635@ripleytraining.co.uk
DTSTART;TZID=Europe/London:20270225T090000
DTEND;TZID=Europe/London:20270225T163000
DTSTAMP:20260331T201446Z
URL:https://www.ripleytraining.co.uk/events/handling-difficult-conversatio
 ns-with-team-members-training-course-1-day-3-2026-05-28-2026-06-25-2026-07
 -23-2026-08-27-2026-09-24-2026-10-22-2026-11-26-2026-12-24-2027-01-28-2027
 -02-25/
SUMMARY:Handling Difficult Conversations with Team Members Training Course 
 (1 day)
DESCRIPTION:
CATEGORIES:Handling Difficult Conversations with Team Members Training
 Course (1 day),Leadership and Management Courses
LOCATION:Virtual Training\, Knaresborough Technology Park\, Knaresborough\,
  North Yorkshire\, HG5 8LF\, United Kingdom
GEO:54.004462;-1.446786
X-APPLE-STRUCTURED-LOCATION;VALUE=URI;X-ADDRESS=Knaresborough Technology Pa
 rk\, Knaresborough\, North Yorkshire\, HG5 8LF\, United Kingdom;X-APPLE-RA
 DIUS=100;X-TITLE=Virtual Training:geo:54.004462,-1.446786
END:VEVENT
BEGIN:VTIMEZONE
TZID:Europe/London
X-LIC-LOCATION:Europe/London
BEGIN:STANDARD
DTSTART:20261025T010000
TZOFFSETFROM:+0100
TZOFFSETTO:+0000
TZNAME:GMT
END:STANDARD
END:VTIMEZONE
END:VCALENDAR