BEGIN:VCALENDAR
VERSION:2.0
PRODID:-//wp-events-plugin.com//7.2.2.1//EN
BEGIN:VEVENT
UID:19133@ripleytraining.co.uk
DTSTART;TZID=Europe/London:20281114T090000
DTEND;TZID=Europe/London:20281114T163000
DTSTAMP:20260419T142202Z
URL:https://www.ripleytraining.co.uk/events/influencing-people-through-eff
 ective-communication-training-course-1-day-2-2027-01-12-2027-03-09-2027-05
 -11-2027-07-13-2027-09-14-2027-11-09-2028-01-11-2028-03-14-2028-05-09-2028
 -07-11-2-12-2028-11-14/
SUMMARY:Influencing People through Effective Communication Training Course 
 (1 Day)
DESCRIPTION:
CATEGORIES:Influencing People through Effective Communication Training
 Course (1 Day),Team Member and Professional Courses
LOCATION:Knaresborough - North Yorkshire (HG5 8LF)\, Knaresborough Technolo
 gy Park\, Knaresborough\, North Yorkshire\, HG5 8LF\, United Kingdom
GEO:54.004989;-1.447223
X-APPLE-STRUCTURED-LOCATION;VALUE=URI;X-ADDRESS=Knaresborough Technology Pa
 rk\, Knaresborough\, North Yorkshire\, HG5 8LF\, United Kingdom;X-APPLE-RA
 DIUS=100;X-TITLE=Knaresborough - North Yorkshire (HG5 8LF):geo:54.004989,-
 1.447223
END:VEVENT
BEGIN:VTIMEZONE
TZID:Europe/London
X-LIC-LOCATION:Europe/London
BEGIN:STANDARD
DTSTART:20281029T010000
TZOFFSETFROM:+0100
TZOFFSETTO:+0000
TZNAME:GMT
END:STANDARD
END:VTIMEZONE
END:VCALENDAR