BEGIN:VCALENDAR
VERSION:2.0
PRODID:-//wp-events-plugin.com//7.2.2.1//EN
BEGIN:VEVENT
UID:20969@ripleytraining.co.uk
DTSTART;TZID=Europe/London:20270209T090000
DTEND;TZID=Europe/London:20270211T163000
DTSTAMP:20260420T095413Z
URL:https://www.ripleytraining.co.uk/events/leadership-and-management-deve
 lopment-programme-3-days-16-2027-02-09/
SUMMARY:Leadership and Management Development Programme (3 Days)
DESCRIPTION:
CATEGORIES:Leadership and Management Courses,Leadership and Management
 Development Programme (Three Days)
LOCATION:Virtual Training\, Knaresborough Technology Park\, Knaresborough\,
  North Yorkshire\, HG5 8LF\, United Kingdom
GEO:54.004462;-1.446786
X-APPLE-STRUCTURED-LOCATION;VALUE=URI;X-ADDRESS=Knaresborough Technology Pa
 rk\, Knaresborough\, North Yorkshire\, HG5 8LF\, United Kingdom;X-APPLE-RA
 DIUS=100;X-TITLE=Virtual Training:geo:54.004462,-1.446786
END:VEVENT
BEGIN:VTIMEZONE
TZID:Europe/London
X-LIC-LOCATION:Europe/London
BEGIN:STANDARD
DTSTART:20261025T010000
TZOFFSETFROM:+0100
TZOFFSETTO:+0000
TZNAME:GMT
END:STANDARD
END:VTIMEZONE
END:VCALENDAR