BEGIN:VCALENDAR
VERSION:2.0
PRODID:-//wp-events-plugin.com//7.2.2.1//EN
BEGIN:VEVENT
UID:20609@ripleytraining.co.uk
DTSTART;TZID=Europe/London:20281227T090000
DTEND;TZID=Europe/London:20281227T163000
DTSTAMP:20260419T161513Z
URL:https://www.ripleytraining.co.uk/events/performance-appraisal-and-obje
 ctive-setting-skills-training-course-1-day-2-2027-01-27-2027-02-24-2027-03
 -31-2027-04-28-2027-05-26-2027-06-30-2027-07-28-2027-08-25-2027-09-29-2027
 -10-27-2-29-2028-12-27/
SUMMARY:Performance Management Review and Objective Setting Skills Training
  Course (1 Day)
DESCRIPTION:
CATEGORIES:Leadership and Management Courses,Performance Appraisal and
 Objective Setting Skills Training Course (1 Day)
LOCATION:London Hilton Euston (WC1H 0HT)\, Hilton Euston Hotel\, 17-18 Uppe
 r Woburn Place\, London\, WC1H 0HT\, United Kingdom
GEO:51.526462;-0.130115
X-APPLE-STRUCTURED-LOCATION;VALUE=URI;X-ADDRESS=Hilton Euston Hotel\, 17-18
  Upper Woburn Place\, London\, WC1H 0HT\, United Kingdom;X-APPLE-RADIUS=10
 0;X-TITLE=London Hilton Euston (WC1H 0HT):geo:51.526462,-0.130115
END:VEVENT
BEGIN:VTIMEZONE
TZID:Europe/London
X-LIC-LOCATION:Europe/London
BEGIN:STANDARD
DTSTART:20281029T010000
TZOFFSETFROM:+0100
TZOFFSETTO:+0000
TZNAME:GMT
END:STANDARD
END:VTIMEZONE
END:VCALENDAR