BEGIN:VCALENDAR
VERSION:2.0
PRODID:-//wp-events-plugin.com//7.2.2.1//EN
BEGIN:VEVENT
UID:18233@ripleytraining.co.uk
DTSTART;TZID=Europe/London:20271201T090000
DTEND;TZID=Europe/London:20271201T163000
DTSTAMP:20260418T210357Z
URL:https://www.ripleytraining.co.uk/events/professional-receptionist-skil
 ls-training-course-1-day-2-2027-01-06-2027-02-03-2027-03-03-2027-04-07-202
 7-05-05-2027-06-02-2027-07-07-2027-08-04-2027-09-01-2027-10-06-2027-11-03-
 2027-12-01/
SUMMARY:Professional Receptionist Skills Training Course (1 Day)
DESCRIPTION:
CATEGORIES:PA - EA - Secretarial and Receptionist Courses,Professional
 Receptionist Skills Training Course (1 Day)
LOCATION:Manchester (M4 4AF)\, Crowne Plaza Hotel\, Manchester\, M4 4AF\, U
 nited Kingdom
GEO:53.485857;-2.236363
X-APPLE-STRUCTURED-LOCATION;VALUE=URI;X-ADDRESS=Crowne Plaza Hotel\, Manche
 ster\, M4 4AF\, United Kingdom;X-APPLE-RADIUS=100;X-TITLE=Manchester (M4 4
 AF):geo:53.485857,-2.236363
END:VEVENT
BEGIN:VTIMEZONE
TZID:Europe/London
X-LIC-LOCATION:Europe/London
BEGIN:STANDARD
DTSTART:20271031T010000
TZOFFSETFROM:+0100
TZOFFSETTO:+0000
TZNAME:GMT
END:STANDARD
END:VTIMEZONE
END:VCALENDAR