BEGIN:VCALENDAR
VERSION:2.0
PRODID:-//wp-events-plugin.com//7.2.2.1//EN
BEGIN:VEVENT
UID:20198@ripleytraining.co.uk
DTSTART;TZID=Europe/London:20280921T090000
DTEND;TZID=Europe/London:20280921T163000
DTSTAMP:20260419T152521Z
URL:https://www.ripleytraining.co.uk/events/professional-receptionist-skil
 ls-training-course-1-day-3-2027-01-21-2027-02-18-2027-03-18-2027-04-15-202
 7-05-20-2027-06-17-2027-07-15-2027-08-19-2027-09-16-2027-10-21-2027-11-18-
 2027-12-17-2028-09-21/
SUMMARY:Professional Receptionist Skills Training Course (1 Day)
DESCRIPTION:
CATEGORIES:PA - EA - Secretarial and Receptionist Courses,Professional
 Receptionist Skills Training Course (1 Day)
LOCATION:London Hilton Euston (WC1H 0HT)\, Hilton Euston Hotel\, 17-18 Uppe
 r Woburn Place\, London\, WC1H 0HT\, United Kingdom
GEO:51.526462;-0.130115
X-APPLE-STRUCTURED-LOCATION;VALUE=URI;X-ADDRESS=Hilton Euston Hotel\, 17-18
  Upper Woburn Place\, London\, WC1H 0HT\, United Kingdom;X-APPLE-RADIUS=10
 0;X-TITLE=London Hilton Euston (WC1H 0HT):geo:51.526462,-0.130115
END:VEVENT
BEGIN:VTIMEZONE
TZID:Europe/London
X-LIC-LOCATION:Europe/London
BEGIN:DAYLIGHT
DTSTART:20280326T020000
TZOFFSETFROM:+0000
TZOFFSETTO:+0100
TZNAME:BST
END:DAYLIGHT
END:VTIMEZONE
END:VCALENDAR