BEGIN:VCALENDAR
VERSION:2.0
PRODID:-//wp-events-plugin.com//7.2.2.1//EN
BEGIN:VEVENT
UID:20421@ripleytraining.co.uk
DTSTART;TZID=Europe/London:20280425T090000
DTEND;TZID=Europe/London:20280425T163000
DTSTAMP:20260419T160915Z
URL:https://www.ripleytraining.co.uk/events/professional-receptionist-skil
 ls-training-course-1-day-4-2027-01-26-2027-02-23-2027-03-23-2027-04-27-202
 7-05-25-2027-06-22-2027-07-27-2027-08-24-2027-09-28-2027-10-26-2027-11-23-
 2027-12-28-2028-04-25/
SUMMARY:Virtual Professional Receptionist Skills Training Course (1 Day)
DESCRIPTION:
CATEGORIES:PA - EA - Secretarial and Receptionist Courses,Professional
 Receptionist Skills Training Course (1 Day)
LOCATION:Virtual Training\, Knaresborough Technology Park\, Knaresborough\,
  North Yorkshire\, HG5 8LF\, United Kingdom
GEO:54.004462;-1.446786
X-APPLE-STRUCTURED-LOCATION;VALUE=URI;X-ADDRESS=Knaresborough Technology Pa
 rk\, Knaresborough\, North Yorkshire\, HG5 8LF\, United Kingdom;X-APPLE-RA
 DIUS=100;X-TITLE=Virtual Training:geo:54.004462,-1.446786
END:VEVENT
BEGIN:VTIMEZONE
TZID:Europe/London
X-LIC-LOCATION:Europe/London
BEGIN:DAYLIGHT
DTSTART:20280326T020000
TZOFFSETFROM:+0000
TZOFFSETTO:+0100
TZNAME:BST
END:DAYLIGHT
END:VTIMEZONE
END:VCALENDAR