BEGIN:VCALENDAR
VERSION:2.0
PRODID:-//wp-events-plugin.com//7.2.2.1//EN
BEGIN:VEVENT
UID:18676@ripleytraining.co.uk
DTSTART;TZID=Europe/London:20280907T090000
DTEND;TZID=Europe/London:20280907T163000
DTSTAMP:20260418T212620Z
URL:https://www.ripleytraining.co.uk/events/recruitment-and-selection-skil
 ls-training-course-1-day-2-2027-01-07-2027-03-04-2027-05-06-2027-07-01-202
 7-09-02-2027-11-04-2028-01-06-2028-03-02-2028-05-04-2028-07-06-2028-09-07/
SUMMARY:Recruitment and Selection Skills Training Course (1 Day)
DESCRIPTION:
CATEGORIES:Leadership and Management Courses,Recruitment and Selection
 Skills Training Course (1 Day)
LOCATION:Manchester (M4 4AF)\, Crowne Plaza Hotel\, Manchester\, M4 4AF\, U
 nited Kingdom
GEO:53.485857;-2.236363
X-APPLE-STRUCTURED-LOCATION;VALUE=URI;X-ADDRESS=Crowne Plaza Hotel\, Manche
 ster\, M4 4AF\, United Kingdom;X-APPLE-RADIUS=100;X-TITLE=Manchester (M4 4
 AF):geo:53.485857,-2.236363
END:VEVENT
BEGIN:VTIMEZONE
TZID:Europe/London
X-LIC-LOCATION:Europe/London
BEGIN:DAYLIGHT
DTSTART:20280326T020000
TZOFFSETFROM:+0000
TZOFFSETTO:+0100
TZNAME:BST
END:DAYLIGHT
END:VTIMEZONE
END:VCALENDAR