BEGIN:VCALENDAR
VERSION:2.0
PRODID:-//wp-events-plugin.com//7.2.2.1//EN
BEGIN:VEVENT
UID:20868@ripleytraining.co.uk
DTSTART;TZID=Europe/London:20281101T090000
DTEND;TZID=Europe/London:20281101T163000
DTSTAMP:20260419T162738Z
URL:https://www.ripleytraining.co.uk/events/recruitment-and-selection-skil
 ls-training-course-1-day-3-2026-11-04-2027-01-06-2027-03-03-2027-05-05-202
 7-07-07-2027-09-01-2027-11-03-2028-01-05-2028-03-01-2028-05-03-2028-07-05-
 2028-09-06-2028-11-01/
SUMMARY:Recruitment and Selection Skills Training Course (1 Day)
DESCRIPTION:
CATEGORIES:Leadership and Management Courses,Recruitment and Selection
 Skills Training Course (1 Day)
LOCATION:London Hilton Euston (WC1H 0HT)\, Hilton Euston Hotel\, 17-18 Uppe
 r Woburn Place\, London\, WC1H 0HT\, United Kingdom
GEO:51.526462;-0.130115
X-APPLE-STRUCTURED-LOCATION;VALUE=URI;X-ADDRESS=Hilton Euston Hotel\, 17-18
  Upper Woburn Place\, London\, WC1H 0HT\, United Kingdom;X-APPLE-RADIUS=10
 0;X-TITLE=London Hilton Euston (WC1H 0HT):geo:51.526462,-0.130115
END:VEVENT
BEGIN:VTIMEZONE
TZID:Europe/London
X-LIC-LOCATION:Europe/London
BEGIN:STANDARD
DTSTART:20281029T010000
TZOFFSETFROM:+0100
TZOFFSETTO:+0000
TZNAME:GMT
END:STANDARD
END:VTIMEZONE
END:VCALENDAR