BEGIN:VCALENDAR
VERSION:2.0
PRODID:-//wp-events-plugin.com//7.2.2.1//EN
BEGIN:VEVENT
UID:21200@ripleytraining.co.uk
DTSTART;TZID=Europe/London:20280321T090000
DTEND;TZID=Europe/London:20280321T163000
DTSTAMP:20260420T115222Z
URL:https://www.ripleytraining.co.uk/events/resilience-and-well-being-skil
 ls-training-course-1-day-2026-05-19-2026-06-16-2026-07-21-2026-08-18-2026-
 09-15-2026-10-20-2026-11-17-2026-12-15-2027-01-19-2027-02-16-2027-03-16-20
 27-04-20-15-2028-03-21/
SUMMARY:Resilience and Well-Being Skills Training Course (1 Day)
DESCRIPTION:
CATEGORIES:Health and Well-Being Courses,Resilience and Well-Being Skills
 Training Course
LOCATION:Leeds (LS1 4HR)\, Novotel\, Leeds\, LS1 4HR\, United Kingdom
GEO:53.7953319;-1.552943599999935
X-APPLE-STRUCTURED-LOCATION;VALUE=URI;X-ADDRESS=Novotel\, Leeds\, LS1 4HR\,
  United Kingdom;X-APPLE-RADIUS=100;X-TITLE=Leeds (LS1 4HR):geo:53.7953319,
 -1.552943599999935
END:VEVENT
BEGIN:VTIMEZONE
TZID:Europe/London
X-LIC-LOCATION:Europe/London
BEGIN:STANDARD
DTSTART:20271031T010000
TZOFFSETFROM:+0100
TZOFFSETTO:+0000
TZNAME:GMT
END:STANDARD
END:VTIMEZONE
END:VCALENDAR