BEGIN:VCALENDAR
VERSION:2.0
PRODID:-//wp-events-plugin.com//7.2.2.1//EN
BEGIN:VEVENT
UID:21179@ripleytraining.co.uk
DTSTART;TZID=Europe/London:20260618T090000
DTEND;TZID=Europe/London:20260618T163000
DTSTAMP:20260420T115352Z
URL:https://www.ripleytraining.co.uk/events/resilience-and-well-being-skil
 ls-training-course-1-day-2026-05-19-2026-06-16/
SUMMARY:Resilience and Well-Being Skills Training Course (1 Day)
DESCRIPTION:
CATEGORIES:Health and Well-Being Courses,Resilience and Well-Being Skills
 Training Course
LOCATION:Leeds (LS1 4HR)\, Novotel\, Leeds\, LS1 4HR\, United Kingdom
GEO:53.7953319;-1.552943599999935
X-APPLE-STRUCTURED-LOCATION;VALUE=URI;X-ADDRESS=Novotel\, Leeds\, LS1 4HR\,
  United Kingdom;X-APPLE-RADIUS=100;X-TITLE=Leeds (LS1 4HR):geo:53.7953319,
 -1.552943599999935
END:VEVENT
BEGIN:VTIMEZONE
TZID:Europe/London
X-LIC-LOCATION:Europe/London
BEGIN:DAYLIGHT
DTSTART:20260329T020000
TZOFFSETFROM:+0000
TZOFFSETTO:+0100
TZNAME:BST
END:DAYLIGHT
END:VTIMEZONE
END:VCALENDAR