BEGIN:VCALENDAR
VERSION:2.0
PRODID:-//wp-events-plugin.com//7.2.2.1//EN
BEGIN:VEVENT
UID:19224@ripleytraining.co.uk
DTSTART;TZID=Europe/London:20280711T090000
DTEND;TZID=Europe/London:20280713T163000
DTSTAMP:20260419T142727Z
URL:https://www.ripleytraining.co.uk/events/team-leader-development-progra
 mme-3-days-2-2027-01-12-2027-02-09-2027-03-09-2027-04-13-2027-05-11-2027-0
 6-08-2027-07-13-2027-08-10-2027-09-14-2027-10-12-2027-11-09-2027-12-14-202
 8-01-11-13-2028-07-11/
SUMMARY:Team Leader Development Programme (3 Days)
DESCRIPTION:
CATEGORIES:Leadership and Management Courses,Team Leader Development
 Programme (3 Days)
LOCATION:Leeds (LS1 4HR)\, Novotel\, Leeds\, LS1 4HR\, United Kingdom
GEO:53.7953319;-1.552943599999935
X-APPLE-STRUCTURED-LOCATION;VALUE=URI;X-ADDRESS=Novotel\, Leeds\, LS1 4HR\,
  United Kingdom;X-APPLE-RADIUS=100;X-TITLE=Leeds (LS1 4HR):geo:53.7953319,
 -1.552943599999935
END:VEVENT
BEGIN:VTIMEZONE
TZID:Europe/London
X-LIC-LOCATION:Europe/London
BEGIN:DAYLIGHT
DTSTART:20280326T020000
TZOFFSETFROM:+0000
TZOFFSETTO:+0100
TZNAME:BST
END:DAYLIGHT
END:VTIMEZONE
END:VCALENDAR