BEGIN:VCALENDAR
VERSION:2.0
PRODID:-//wp-events-plugin.com//7.2.2.1//EN
BEGIN:VEVENT
UID:17945@ripleytraining.co.uk
DTSTART;TZID=Europe/London:20271207T090000
DTEND;TZID=Europe/London:20271209T163000
DTSTAMP:20260418T204934Z
URL:https://www.ripleytraining.co.uk/events/team-leader-development-progra
 mme-3-days-2027-01-05-2027-02-02-2027-03-02-2027-04-06-2027-05-04-2027-06-
 01-2027-07-06-2027-08-03-2027-09-07-2027-10-05-2027-11-02-2027-12-07/
SUMMARY:Team Leader Development Programme (3 Days)
DESCRIPTION:
CATEGORIES:Leadership and Management Courses,Team Leader Development
 Programme (3 Days)
LOCATION:London Hilton Euston (WC1H 0HT)\, Hilton Euston Hotel\, 17-18 Uppe
 r Woburn Place\, London\, WC1H 0HT\, United Kingdom
GEO:51.526462;-0.130115
X-APPLE-STRUCTURED-LOCATION;VALUE=URI;X-ADDRESS=Hilton Euston Hotel\, 17-18
  Upper Woburn Place\, London\, WC1H 0HT\, United Kingdom;X-APPLE-RADIUS=10
 0;X-TITLE=London Hilton Euston (WC1H 0HT):geo:51.526462,-0.130115
END:VEVENT
BEGIN:VTIMEZONE
TZID:Europe/London
X-LIC-LOCATION:Europe/London
BEGIN:STANDARD
DTSTART:20271031T010000
TZOFFSETFROM:+0100
TZOFFSETTO:+0000
TZNAME:GMT
END:STANDARD
END:VTIMEZONE
END:VCALENDAR