BEGIN:VCALENDAR
VERSION:2.0
PRODID:-//wp-events-plugin.com//7.2.2.1//EN
BEGIN:VEVENT
UID:19675@ripleytraining.co.uk
DTSTART;TZID=Europe/London:20280215T090000
DTEND;TZID=Europe/London:20280217T163000
DTSTAMP:20260419T145250Z
URL:https://www.ripleytraining.co.uk/events/team-leader-development-progra
 mme-3-days-3-2027-01-19-2027-02-16-2027-03-16-2027-04-20-2027-05-18-2027-0
 6-15-2027-07-20-2027-08-17-2027-09-21-2027-10-19-2027-11-16-2027-12-21-202
 8-01-18-2028-02-15/
SUMMARY:Team Leader Development Programme (3 Days)
DESCRIPTION:
CATEGORIES:Leadership and Management Courses,Team Leader Development
 Programme (3 Days)
LOCATION:Manchester (M4 4AF)\, Crowne Plaza Hotel\, Manchester\, M4 4AF\, U
 nited Kingdom
GEO:53.485857;-2.236363
X-APPLE-STRUCTURED-LOCATION;VALUE=URI;X-ADDRESS=Crowne Plaza Hotel\, Manche
 ster\, M4 4AF\, United Kingdom;X-APPLE-RADIUS=100;X-TITLE=Manchester (M4 4
 AF):geo:53.485857,-2.236363
END:VEVENT
BEGIN:VTIMEZONE
TZID:Europe/London
X-LIC-LOCATION:Europe/London
BEGIN:STANDARD
DTSTART:20271031T010000
TZOFFSETFROM:+0100
TZOFFSETTO:+0000
TZNAME:GMT
END:STANDARD
END:VTIMEZONE
END:VCALENDAR