BEGIN:VCALENDAR
VERSION:2.0
PRODID:-//wp-events-plugin.com//7.2.2.1//EN
BEGIN:VEVENT
UID:19277@ripleytraining.co.uk
DTSTART;TZID=Europe/London:20281114T090000
DTEND;TZID=Europe/London:20281114T163000
DTSTAMP:20260419T143009Z
URL:https://www.ripleytraining.co.uk/events/undertaking-employee-disciplin
 ary-investigations-course-1-day-2-2027-01-12-2027-03-09-2027-05-11-2027-07
 -13-2027-09-14-2027-11-09-2028-01-11-2028-03-14-2028-05-09-2028-07-11-2028
 -09-12-2028-11-14/
SUMMARY:Undertaking Employee Disciplinary Investigations Course (1 Day)
DESCRIPTION:
CATEGORIES:Leadership and Management Courses,Undertaking Employee
 Disciplinary Investigations Course (1 Day)
LOCATION:Manchester (M4 4AF)\, Crowne Plaza Hotel\, Manchester\, M4 4AF\, U
 nited Kingdom
GEO:53.485857;-2.236363
X-APPLE-STRUCTURED-LOCATION;VALUE=URI;X-ADDRESS=Crowne Plaza Hotel\, Manche
 ster\, M4 4AF\, United Kingdom;X-APPLE-RADIUS=100;X-TITLE=Manchester (M4 4
 AF):geo:53.485857,-2.236363
END:VEVENT
BEGIN:VTIMEZONE
TZID:Europe/London
X-LIC-LOCATION:Europe/London
BEGIN:STANDARD
DTSTART:20281029T010000
TZOFFSETFROM:+0100
TZOFFSETTO:+0000
TZNAME:GMT
END:STANDARD
END:VTIMEZONE
END:VCALENDAR