BEGIN:VCALENDAR
VERSION:2.0
PRODID:-//wp-events-plugin.com//7.2.2.1//EN
BEGIN:VEVENT
UID:19877@ripleytraining.co.uk
DTSTART;TZID=Europe/London:20281115T090000
DTEND;TZID=Europe/London:20281115T163000
DTSTAMP:20260419T150824Z
URL:https://www.ripleytraining.co.uk/events/undertaking-employee-disciplin
 ary-investigations-course-1-day-2027-01-20-2027-03-17-2027-05-19-2027-07-2
 1-2027-09-15-2027-11-17-2028-01-19-2028-03-15-2028-05-17-2028-07-19-2028-0
 9-20-2028-11-15/
SUMMARY:Undertaking Employee Disciplinary Investigations Course (1 Day)
DESCRIPTION:
CATEGORIES:Leadership and Management Courses,Undertaking Employee
 Disciplinary Investigations Course (1 Day)
LOCATION:London Hilton Euston (WC1H 0HT)\, Hilton Euston Hotel\, 17-18 Uppe
 r Woburn Place\, London\, WC1H 0HT\, United Kingdom
GEO:51.526462;-0.130115
X-APPLE-STRUCTURED-LOCATION;VALUE=URI;X-ADDRESS=Hilton Euston Hotel\, 17-18
  Upper Woburn Place\, London\, WC1H 0HT\, United Kingdom;X-APPLE-RADIUS=10
 0;X-TITLE=London Hilton Euston (WC1H 0HT):geo:51.526462,-0.130115
END:VEVENT
BEGIN:VTIMEZONE
TZID:Europe/London
X-LIC-LOCATION:Europe/London
BEGIN:STANDARD
DTSTART:20281029T010000
TZOFFSETFROM:+0100
TZOFFSETTO:+0000
TZNAME:GMT
END:STANDARD
END:VTIMEZONE
END:VCALENDAR