BEGIN:VCALENDAR
VERSION:2.0
PRODID:-//wp-events-plugin.com//7.2.2.1//EN
BEGIN:VEVENT
UID:19470@ripleytraining.co.uk
DTSTART;TZID=Europe/London:20280113T090000
DTEND;TZID=Europe/London:20280113T163000
DTSTAMP:20260419T144045Z
URL:https://www.ripleytraining.co.uk/events/virtual-handling-demanding-peo
 ple-training-course-1-day-2027-01-14-2027-02-11-2027-03-11-2027-04-08-2027
 -05-13-2027-06-10-2027-07-08-2027-08-12-2027-09-09-2027-10-14-2027-11-11-2
 027-12-09-2028-01-13/
SUMMARY:Virtual Handling Demanding People Training Course (1 Day)
DESCRIPTION:
CATEGORIES:Handling Demanding People Training Course (1 Day),Team Member
 and Professional Courses
LOCATION:Virtual Training\, Knaresborough Technology Park\, Knaresborough\,
  North Yorkshire\, HG5 8LF\, United Kingdom
GEO:54.004462;-1.446786
X-APPLE-STRUCTURED-LOCATION;VALUE=URI;X-ADDRESS=Knaresborough Technology Pa
 rk\, Knaresborough\, North Yorkshire\, HG5 8LF\, United Kingdom;X-APPLE-RA
 DIUS=100;X-TITLE=Virtual Training:geo:54.004462,-1.446786
END:VEVENT
BEGIN:VTIMEZONE
TZID:Europe/London
X-LIC-LOCATION:Europe/London
BEGIN:STANDARD
DTSTART:20271031T010000
TZOFFSETFROM:+0100
TZOFFSETTO:+0000
TZNAME:GMT
END:STANDARD
END:VTIMEZONE
END:VCALENDAR