BEGIN:VCALENDAR
VERSION:2.0
PRODID:-//wp-events-plugin.com//7.2.2.1//EN
BEGIN:VEVENT
UID:18773@ripleytraining.co.uk
DTSTART;TZID=Europe/London:20281207T090000
DTEND;TZID=Europe/London:20281207T163000
DTSTAMP:20260418T212927Z
URL:https://www.ripleytraining.co.uk/events/virtual-recruitment-and-select
 ion-skills-training-course-1-day-2027-01-07-2027-02-04-2027-03-04-2027-04-
 01-2027-05-06-2027-06-03-2027-07-01-2027-08-05-2027-09-02-2027-10-07-2027-
 11-04-20-02-2028-12-07/
SUMMARY:Virtual Recruitment and Selection Skills Training Course (1 Day)
DESCRIPTION:
CATEGORIES:Leadership and Management Courses,Recruitment and Selection
 Skills Training Course (1 Day)
LOCATION:Virtual Training\, Knaresborough Technology Park\, Knaresborough\,
  North Yorkshire\, HG5 8LF\, United Kingdom
GEO:54.004462;-1.446786
X-APPLE-STRUCTURED-LOCATION;VALUE=URI;X-ADDRESS=Knaresborough Technology Pa
 rk\, Knaresborough\, North Yorkshire\, HG5 8LF\, United Kingdom;X-APPLE-RA
 DIUS=100;X-TITLE=Virtual Training:geo:54.004462,-1.446786
END:VEVENT
BEGIN:VTIMEZONE
TZID:Europe/London
X-LIC-LOCATION:Europe/London
BEGIN:STANDARD
DTSTART:20281029T010000
TZOFFSETFROM:+0100
TZOFFSETTO:+0000
TZNAME:GMT
END:STANDARD
END:VTIMEZONE
END:VCALENDAR